BEGIN:VCALENDAR
VERSION:2.0
PRODID:-//TUTG - ECPv3.9.3//NONSGML v1.0//EN
CALSCALE:GREGORIAN
METHOD:PUBLISH
X-WR-CALNAME:TUTG
X-ORIGINAL-URL:https://tutg.or.th
X-WR-CALDESC:Events for TUTG
BEGIN:VEVENT
DTSTART;VALUE=DATE-TIME:20161026T133000
DTEND;VALUE=DATE-TIME:20161026T163000
DTSTAMP:20260424T105245
CREATED:20161021T084527
LAST-MODIFIED:20161021T084527
UID:888-1477488600-1477499400@https://tutg.or.th
SUMMARY:การบรรยายพิเศษเรื่อง “Shaft Excavation in Rock”
DESCRIPTION:วิศวกรรมสถานแห่งประเทศไทย ในพระบรมราชูปถัมภ์ (วสท.)  โดย คณะกรรมการงานก่อสร้างใต้ดินและอุโมงค์  จัดการบรรยายพิเศษเรื่อง “Shaft Excavation in Rock”  ในวันพุธที่ 26 ตุลาคม 2559 ณ ห้องประชุม 1 ชั้น 4 อาคาร วสท. (ซอยรามคำแหง 39) มีวัตถุประสงค์เพื่อเพิ่มพูนและ แลกเปลี่ยนความรู้ด้านการขุดเจาะปล่องอุโมงค์ในหิน  โดยมีรายละเอียดกำหนดการตามไฟล์แนบ (ไม่เสียค่าลงทะเบียน)     
URL:https://tutg.or.th/event/%e0%b8%81%e0%b8%b2%e0%b8%a3%e0%b8%9a%e0%b8%a3%e0%b8%a3%e0%b8%a2%e0%b8%b2%e0%b8%a2%e0%b8%9e%e0%b8%b4%e0%b9%80%e0%b8%a8%e0%b8%a9%e0%b9%80%e0%b8%a3%e0%b8%b7%e0%b9%88%e0%b8%ad%e0%b8%87-shaft-exca/
LOCATION:Bangkok, Thailand
CATEGORIES:Special Lecture
END:VEVENT
END:VCALENDAR